BEGIN:VCALENDAR
VERSION:2.0
PRODID:gruene-harsefeld.de
METHOD:PUBLISH
BEGIN:VTIMEZONE
TZID:Europe/Berlin
X-LIC-LOCATION:Europe/Berlin
BEGIN:DAYLIGHT
TZOFFSETFROM:+0100
TZOFFSETTO:+0200
TZNAME:CEST
DTSTART:19700329T020000
RRULE:FREQ=YEARLY;INTERVAL=1;BYDAY=-1SU;BYMONTH=3
END:DAYLIGHT
BEGIN:STANDARD
TZOFFSETFROM:+0200
TZOFFSETTO:+0100
TZNAME:CET
DTSTART:19701025T030000
RRULE:FREQ=YEARLY;INTERVAL=1;BYDAY=-1SU;BYMONTH=10
END:STANDARD
END:VTIMEZONE
BEGIN:VEVENT
UID:d710871bfbd24e8c4620734e11666afe@gruene-harsefeld.de
URL;VALUE=URI:https://gruene-harsefeld.de/termine/sg-ratssitzung/
LOCATION:
SUMMARY:SG – Ratssitzung
DESCRIPTION;ALTREP="data:text/html,%3Cspan%20class%3D%22button%22%3E%3Ca%
 20href%3D%22http%3A%2F%2Fwww.harsefeld.sitzung-online.de%2Fbi%2Fsi010_e.a
 sp%3FMM%3D3%26amp%3BYY%3D2021%22%20target%3D%22_blank%22%20rel%3D%22noope
 ner%22%3ELink%20zur%20Tagesordnung%3C%2Fa%3E%3C%2Fspan%3E":Link zur Tages
 ordnung
CLASS:PUBLIC
DTSTART;TZID=Europe/Berlin:20210311T190000
DTEND;TZID=Europe/Berlin:20210311T210000
DTSTAMP:20260421T093515
END:VEVENT
END:VCALENDAR