BEGIN:VCALENDAR
VERSION:2.0
PRODID:gruene-harsefeld.de
METHOD:PUBLISH
BEGIN:VTIMEZONE
TZID:Europe/Berlin
X-LIC-LOCATION:Europe/Berlin
BEGIN:DAYLIGHT
TZOFFSETFROM:+0100
TZOFFSETTO:+0200
TZNAME:CEST
DTSTART:19700329T020000
RRULE:FREQ=YEARLY;INTERVAL=1;BYDAY=-1SU;BYMONTH=3
END:DAYLIGHT
BEGIN:STANDARD
TZOFFSETFROM:+0200
TZOFFSETTO:+0100
TZNAME:CET
DTSTART:19701025T030000
RRULE:FREQ=YEARLY;INTERVAL=1;BYDAY=-1SU;BYMONTH=10
END:STANDARD
END:VTIMEZONE
BEGIN:VEVENT
UID:5e33bc13e7deb01b43fc712b9ac0e305@gruene-harsefeld.de
URL;VALUE=URI:https://gruene-harsefeld.de/termine/kommunalwahl-in-nieders
 achsen/
LOCATION:
SUMMARY:Kommunalwahl in Niedersachsen
DESCRIPTION;ALTREP="data:text/html,%3Cspan%20class%3D%22button%22%3E%3Ca%
 20href%3D%22https%3A%2F%2Flandeswahlleiterin.niedersachsen.de%2Fstartseit
 e%2Fwahlen%2Fkommunalwahl%2Fkommunalwahlen_2021_neu%2Fkommunalwahlen-2021
 -in-niedersachsen-193393.html%22%20target%3D%22_blank%22%20rel%3D%22noope
 ner%22%3ELink%20zur%20Landeswahlleiterin%3C%2Fa%3E%3C%2Fspan%3E":Link zur
  Landeswahlleiterin
CLASS:PUBLIC
DTSTART;TZID=Europe/Berlin:20210912T080000
DTEND;TZID=Europe/Berlin:20210912T180000
DTSTAMP:20260421T094050
END:VEVENT
END:VCALENDAR