BEGIN:VCALENDAR
VERSION:2.0
PRODID:gruene-harsefeld.de
METHOD:PUBLISH
BEGIN:VTIMEZONE
TZID:Europe/Berlin
X-LIC-LOCATION:Europe/Berlin
BEGIN:DAYLIGHT
TZOFFSETFROM:+0100
TZOFFSETTO:+0200
TZNAME:CEST
DTSTART:19700329T020000
RRULE:FREQ=YEARLY;INTERVAL=1;BYDAY=-1SU;BYMONTH=3
END:DAYLIGHT
BEGIN:STANDARD
TZOFFSETFROM:+0200
TZOFFSETTO:+0100
TZNAME:CET
DTSTART:19701025T030000
RRULE:FREQ=YEARLY;INTERVAL=1;BYDAY=-1SU;BYMONTH=10
END:STANDARD
END:VTIMEZONE
BEGIN:VEVENT
UID:3332baa1cc17ae1132ef4f20dd37c699@gruene-harsefeld.de
URL;VALUE=URI:https://gruene-harsefeld.de/termine/fl-ausschuss-fuer-bau-u
 mwelt-und-verkehr-7/
LOCATION:Ratssaal, Harsefeld
SUMMARY:FL – Ausschuss für Bau, Umwelt und Verkehr
DESCRIPTION;ALTREP="data:text/html,%3Cspan%20class%3D%22button%22%3E%3Ca%
 20href%3D%22http%3A%2F%2Fwww.harsefeld.sitzung-online.de%2Fbi%2Fto010.asp
 %3FSILFDNR%3D1002927%22%20target%3D%22_blank%22%20rel%3D%22noopener%22%3E
 Link%20zum%20Sitzungskalender%3C%2Fa%3E%3C%2Fspan%3E":Link zum Sitzungska
 lender
CLASS:PUBLIC
DTSTART;TZID=Europe/Berlin:20210216T180000
DTEND;TZID=Europe/Berlin:20210216T190000
DTSTAMP:20260421T094120
END:VEVENT
END:VCALENDAR